BEGIN:VCALENDAR
VERSION:2.0
PRODID:icalendar-ruby
CALSCALE:GREGORIAN
METHOD:PUBLISH
BEGIN:VEVENT
DTSTAMP:20260423T181812Z
UID:9-414118@fbclangley.com
DTSTART:20261008T003000Z
DTEND:20261008T013000Z
CLASS:PUBLIC
CREATED:20260423T103333
DESCRIPTION:Men\, come dive deep into God\,s word!
LAST-MODIFIED:20260423T103333
LOCATION:
SUMMARY:Men's Bible Study PM
URL;VALUE=URI:https://www.fbclangley.com/events/mens-bible-study-pm/2026-10
 -07
ATTACH;FILENAME=biblestudy-1.jpg;FMTTYPE=image/jpeg:https://dq5pwpg1q8ru0.c
 loudfront.net/2025/07/02/22/33/02/3676654a-87d3-4516-b11a-fca226f66dbd/bib
 lestudy-1.jpg
END:VEVENT
END:VCALENDAR
