BEGIN:VCALENDAR
VERSION:2.0
PRODID:icalendar-ruby
CALSCALE:GREGORIAN
METHOD:PUBLISH
BEGIN:VEVENT
DTSTAMP:20260422T134421Z
UID:7-411764@fbclangley.com
DTSTART:20260908T130000Z
DTEND:20260908T140000Z
CLASS:PUBLIC
CREATED:20260422T073948
DESCRIPTION:Come study God's word with some wonderful ladies!
LAST-MODIFIED:20260422T073948
LOCATION:Fellowship Hall
SUMMARY:Ladies Bible Study
URL;VALUE=URI:https://www.fbclangley.com/events/ladies-bible-study/2026-09-
 08
ATTACH;FILENAME=Flowers_Womens_Bible_Study.png;FMTTYPE=image/png:https://dq
 5pwpg1q8ru0.cloudfront.net/2025/07/02/22/29/42/2789955e-0a16-425c-b00e-e32
 26d7aab50/Flowers_Womens_Bible_Study.png
END:VEVENT
END:VCALENDAR
